

BEGIN:VCALENDAR
VERSION:2.0
PRODID:-//Disability Network - ECPv6.15.20//NONSGML v1.0//EN
CALSCALE:GREGORIAN
METHOD:PUBLISH
X-WR-CALNAME:Disability Network
X-ORIGINAL-URL:https://disabilitynetworkwm.org
X-WR-CALDESC:Events for Disability Network
REFRESH-INTERVAL;VALUE=DURATION:PT1H
X-Robots-Tag:noindex
X-PUBLISHED-TTL:PT1H
BEGIN:VTIMEZONE
TZID:America/Detroit
BEGIN:DAYLIGHT
TZOFFSETFROM:-0500
TZOFFSETTO:-0400
TZNAME:EDT
DTSTART:20230312T070000
END:DAYLIGHT
BEGIN:STANDARD
TZOFFSETFROM:-0400
TZOFFSETTO:-0500
TZNAME:EST
DTSTART:20231105T060000
END:STANDARD
BEGIN:DAYLIGHT
TZOFFSETFROM:-0500
TZOFFSETTO:-0400
TZNAME:EDT
DTSTART:20240310T070000
END:DAYLIGHT
BEGIN:STANDARD
TZOFFSETFROM:-0400
TZOFFSETTO:-0500
TZNAME:EST
DTSTART:20241103T060000
END:STANDARD
BEGIN:DAYLIGHT
TZOFFSETFROM:-0500
TZOFFSETTO:-0400
TZNAME:EDT
DTSTART:20250309T070000
END:DAYLIGHT
BEGIN:STANDARD
TZOFFSETFROM:-0400
TZOFFSETTO:-0500
TZNAME:EST
DTSTART:20251102T060000
END:STANDARD
END:VTIMEZONE
BEGIN:VEVENT
DTSTART;TZID=America/Detroit:20240612T133000
DTEND;TZID=America/Detroit:20240612T143000
DTSTAMP:20260422T064234
CREATED:20240501T224857Z
LAST-MODIFIED:20240501T225002Z
UID:3945-1718199000-1718202600@disabilitynetworkwm.org
SUMMARY:Celebrate Independence (Living Skills) Day | Newaygo County
DESCRIPTION:A fun gathering for youth with disabilities\, ages 16-26! \nDisability Network West Michigan is pleased to invite you to our introduction to the Ignite Fire peer group event! Ignite Fire is a great opportunity for youth and young adults (aged 16-26) with disabilities to connect; It’s a chance to share and discuss issues\, concerns\, hopes\, dreams\, and goals with other peers. \nTopic: Growing Green! \nWhat attendees can expect: \nMeet & Greet\nAffordable & Festive Ways to Decorate For Independence Day!\nCraft Making\nEasy-to-follow recipes\nYou can RSVP using the ticket button on this event or by calling 231-722-0088.\nRSVP available on May 13 @ 10:00am \nChild care will be provided; please mention if there will be younger children present
URL:https://disabilitynetworkwm.org/event/celebrate-independence-living-skills-day-newaygo-county/
LOCATION:NCRESA Educational Service Center\, 4747 West 48th Street\, Fremont\, MI\, 49412\, United States
ATTACH;FMTTYPE=image/jpeg:https://disabilitynetworkwm.org/wp-content/uploads/2024/05/https___cdn.evbuc_.com_images_750655399_590687579563_1_original.jpeg
END:VEVENT
END:VCALENDAR