

BEGIN:VCALENDAR
VERSION:2.0
PRODID:-//Disability Network - ECPv6.15.20//NONSGML v1.0//EN
CALSCALE:GREGORIAN
METHOD:PUBLISH
X-WR-CALNAME:Disability Network
X-ORIGINAL-URL:https://disabilitynetworkwm.org
X-WR-CALDESC:Events for Disability Network
REFRESH-INTERVAL;VALUE=DURATION:PT1H
X-Robots-Tag:noindex
X-PUBLISHED-TTL:PT1H
BEGIN:VTIMEZONE
TZID:America/Detroit
BEGIN:DAYLIGHT
TZOFFSETFROM:-0500
TZOFFSETTO:-0400
TZNAME:EDT
DTSTART:20240310T070000
END:DAYLIGHT
BEGIN:STANDARD
TZOFFSETFROM:-0400
TZOFFSETTO:-0500
TZNAME:EST
DTSTART:20241103T060000
END:STANDARD
BEGIN:DAYLIGHT
TZOFFSETFROM:-0500
TZOFFSETTO:-0400
TZNAME:EDT
DTSTART:20250309T070000
END:DAYLIGHT
BEGIN:STANDARD
TZOFFSETFROM:-0400
TZOFFSETTO:-0500
TZNAME:EST
DTSTART:20251102T060000
END:STANDARD
BEGIN:DAYLIGHT
TZOFFSETFROM:-0500
TZOFFSETTO:-0400
TZNAME:EDT
DTSTART:20260308T070000
END:DAYLIGHT
BEGIN:STANDARD
TZOFFSETFROM:-0400
TZOFFSETTO:-0500
TZNAME:EST
DTSTART:20261101T060000
END:STANDARD
END:VTIMEZONE
BEGIN:VEVENT
DTSTART;TZID=America/Detroit:20250919T110000
DTEND;TZID=America/Detroit:20250919T140000
DTSTAMP:20260422T093244
CREATED:20250722T153010Z
LAST-MODIFIED:20250722T153010Z
UID:5375-1758279600-1758290400@disabilitynetworkwm.org
SUMMARY:Disability Network West Michigan's Annual Block Party
DESCRIPTION:Join Us for a Community Celebration! \nJoin the DNWM crew and special guests for a joyful look back at the changes we’ve sparked—and the community that made it all possible! \n(Sponsorship levels can be found below) \nThis special event marks another year of empowering individuals with disabilities across Muskegon\, Newaygo\, Oceana\, Mason\, and Lake Counties. For over 25 years\, we’ve been dedicated to breaking down barriers and fighting discrimination in employment\, education\, housing\, and transportation—working toward a world where people with disabilities have equal rights and opportunities. \nEnjoy an afternoon of: \n\n\nMusic\, food\, and refreshments \n\n\nRaffle prizes and giveaways \n\n\nFun for all ages \n\n\nA chance to meet our team \n\n\nInformation tables from incredible partner organizations across the region \n\n\nSponsorship OpportunitiesPlease support our mission and gain meaningful visibility in the community. \n Title Sponsor – $2\,500 \n\n\n(2) Booth spaces (tables provided if needed) \n\n\n(6) Lunches \n\n\nSocial media promotion \n\n\nOn-site signage \n\n\nPress release inclusion \n\n\nRecognition in our Annual Report \n\n\nOpportunity to speak (2–3 minutes) at the event \n\n\n $1\,000 Sponsor \n\n\n(2) Booth spaces (tables provided if needed) \n\n\n(4) Lunches \n\n\nSocial media promotion \n\n\nOn-site signage \n\n\nPress release inclusion \n\n\nRecognition in our Annual Report \n\n\n$500 Sponsor \n\n\n(1) Booth space (please bring your own table) \n\n\n(4) Lunches \n\n\nSocial media promotion \n\n\nRecognition in our Annual Report \n\n\n$250 Sponsor \n\n\n(1) Booth space (please bring your own table) \n\n\n(2) Lunches \n\n\nSocial media promotion \n\n\nRecognition in our Annual Report \n\n\n $50 Friend of DNWM \n\n\n(1) Booth space (please bring your own table) \n\n\n(1) Lunch \n\n\nSocial media shoutout \n\n\nThings That You Can Support \n \n\nADA Celebration (July)\nAnnual Block Party (September)\nVeterans Appreciation Dinner (November)\nGiving Tuesday (December)\n\nAnnual (Below) \n\nAnnual Signature Fundraiser\nLegacy Giving\nGeneral Donations\n\nIf you would like to be a sponsor for this event\, please review our sponsorship levels below and contact our CEO\, Will Wilson\, for more information. \nWill can be reached via email or phone at: \nEmail: willw@disabilitynetworkwm.org  \nPhone: 231-332-4042
URL:https://disabilitynetworkwm.org/event/disability-network-west-michigans-annual-block-party/
LOCATION:Disability Network West Michigan\, 27 East Clay Avenue\, Muskegon\, MI\, 49442\, United States
ATTACH;FMTTYPE=image/jpeg:https://disabilitynetworkwm.org/wp-content/uploads/2025/07/BLOCK-PARTY.jpg
END:VEVENT
END:VCALENDAR