

BEGIN:VCALENDAR
VERSION:2.0
PRODID:-//Disability Network - ECPv6.15.20//NONSGML v1.0//EN
CALSCALE:GREGORIAN
METHOD:PUBLISH
X-WR-CALNAME:Disability Network
X-ORIGINAL-URL:https://disabilitynetworkwm.org
X-WR-CALDESC:Events for Disability Network
REFRESH-INTERVAL;VALUE=DURATION:PT1H
X-Robots-Tag:noindex
X-PUBLISHED-TTL:PT1H
BEGIN:VTIMEZONE
TZID:America/Detroit
BEGIN:DAYLIGHT
TZOFFSETFROM:-0500
TZOFFSETTO:-0400
TZNAME:EDT
DTSTART:20240310T070000
END:DAYLIGHT
BEGIN:STANDARD
TZOFFSETFROM:-0400
TZOFFSETTO:-0500
TZNAME:EST
DTSTART:20241103T060000
END:STANDARD
BEGIN:DAYLIGHT
TZOFFSETFROM:-0500
TZOFFSETTO:-0400
TZNAME:EDT
DTSTART:20250309T070000
END:DAYLIGHT
BEGIN:STANDARD
TZOFFSETFROM:-0400
TZOFFSETTO:-0500
TZNAME:EST
DTSTART:20251102T060000
END:STANDARD
BEGIN:DAYLIGHT
TZOFFSETFROM:-0500
TZOFFSETTO:-0400
TZNAME:EDT
DTSTART:20260308T070000
END:DAYLIGHT
BEGIN:STANDARD
TZOFFSETFROM:-0400
TZOFFSETTO:-0500
TZNAME:EST
DTSTART:20261101T060000
END:STANDARD
END:VTIMEZONE
BEGIN:VEVENT
DTSTART;TZID=America/Detroit:20250626T173000
DTEND;TZID=America/Detroit:20250626T183000
DTSTAMP:20260422T061901
CREATED:20250527T161754Z
LAST-MODIFIED:20250610T141853Z
UID:5311-1750959000-1750962600@disabilitynetworkwm.org
SUMMARY:Ignite Fire: Muskegon County | Topic: Urban Accessible Gardening
DESCRIPTION:Disability Network West Michigan is excited to invite you to our next Ignite Fire peer group!\n\n\nIgnite Fire is a great opportunity for youth and young adults (aged 16-26) with disabilities to connect. It’s a chance to share and discuss issues\, concerns\, hopes\, dreams\, and goals with peers.\n\n\nTopic: Urban Accessible Gardening \n\n  \n  \nWhat attendees can expect: \n\n\nHow are we feeling/ Check-in\nTalking over the ground rules for the meeting\nUrban Accessible Gardening (Presenter/Activity)\nCasual conversation/hangout\nDiscussion of our next event\n\n\nParents and caregivers are also welcome! \nSee you soon?!
URL:https://disabilitynetworkwm.org/event/gardening/
LOCATION:United Way of the Lakeshore: Yellow Room\, 31 E Clay Ave\, Muskegon\, MI\, 49442\, United States
CATEGORIES:Ignite Fire (Muskegon)
ATTACH;FMTTYPE=image/jpeg:https://disabilitynetworkwm.org/wp-content/uploads/2024/08/Ignite-Muskegon.jpg
END:VEVENT
END:VCALENDAR