

BEGIN:VCALENDAR
VERSION:2.0
PRODID:-//Disability Network - ECPv6.15.20//NONSGML v1.0//EN
CALSCALE:GREGORIAN
METHOD:PUBLISH
X-WR-CALNAME:Disability Network
X-ORIGINAL-URL:https://disabilitynetworkwm.org
X-WR-CALDESC:Events for Disability Network
REFRESH-INTERVAL;VALUE=DURATION:PT1H
X-Robots-Tag:noindex
X-PUBLISHED-TTL:PT1H
BEGIN:VTIMEZONE
TZID:America/Detroit
BEGIN:DAYLIGHT
TZOFFSETFROM:-0500
TZOFFSETTO:-0400
TZNAME:EDT
DTSTART:20240310T070000
END:DAYLIGHT
BEGIN:STANDARD
TZOFFSETFROM:-0400
TZOFFSETTO:-0500
TZNAME:EST
DTSTART:20241103T060000
END:STANDARD
BEGIN:DAYLIGHT
TZOFFSETFROM:-0500
TZOFFSETTO:-0400
TZNAME:EDT
DTSTART:20250309T070000
END:DAYLIGHT
BEGIN:STANDARD
TZOFFSETFROM:-0400
TZOFFSETTO:-0500
TZNAME:EST
DTSTART:20251102T060000
END:STANDARD
BEGIN:DAYLIGHT
TZOFFSETFROM:-0500
TZOFFSETTO:-0400
TZNAME:EDT
DTSTART:20260308T070000
END:DAYLIGHT
BEGIN:STANDARD
TZOFFSETFROM:-0400
TZOFFSETTO:-0500
TZNAME:EST
DTSTART:20261101T060000
END:STANDARD
END:VTIMEZONE
BEGIN:VEVENT
DTSTART;TZID=America/Detroit:20250220T163000
DTEND;TZID=America/Detroit:20250220T180000
DTSTAMP:20260422T062117
CREATED:20250106T184101Z
LAST-MODIFIED:20250214T185744Z
UID:4841-1740069000-1740074400@disabilitynetworkwm.org
SUMMARY:Ignite Fire: Muskegon County | Topic: Banking Basics (4Front Credit Union)
DESCRIPTION:Disability Network West Michigan is excited to invite you to our next Ignite Fire peer group!\n\nIgnite Fire is a great opportunity for youth and young adults (aged 16-26) with disabilities to connect. It’s a chance to share and discuss issues\, concerns\, hopes\, dreams\, and goals with peers.\n\nTopic: Banking Basics Presentation |  4Front Credit Union | Pizza\n\nWhat attendees can expect: \n\n\nHow are we feeling/ Check-in\n\n\nTalking over the ground rules for the meeting\n\n\nCasual conversation/hangout * Time permitting\n\n\nDiscussion of our next event\n\nParents and caregivers are also welcome!\n\nYou can also RSVP using the ticket button on this event or by calling 231-722-0088 | A virtual option will also be available
URL:https://disabilitynetworkwm.org/event/ignite-fire-muskegon-county-topic-banking-basics-4front-credit-union/
LOCATION:United Way of the Lakeshore: Yellow Room\, 31 E Clay Ave\, Muskegon\, MI\, 49442\, United States
CATEGORIES:Ignite Fire (Muskegon)
ATTACH;FMTTYPE=image/jpeg:https://disabilitynetworkwm.org/wp-content/uploads/2024/08/Ignite-Muskegon.jpg
END:VEVENT
END:VCALENDAR