

BEGIN:VCALENDAR
VERSION:2.0
PRODID:-//Disability Network - ECPv6.15.20//NONSGML v1.0//EN
CALSCALE:GREGORIAN
METHOD:PUBLISH
X-WR-CALNAME:Disability Network
X-ORIGINAL-URL:https://disabilitynetworkwm.org
X-WR-CALDESC:Events for Disability Network
REFRESH-INTERVAL;VALUE=DURATION:PT1H
X-Robots-Tag:noindex
X-PUBLISHED-TTL:PT1H
BEGIN:VTIMEZONE
TZID:America/Detroit
BEGIN:DAYLIGHT
TZOFFSETFROM:-0500
TZOFFSETTO:-0400
TZNAME:EDT
DTSTART:20240310T070000
END:DAYLIGHT
BEGIN:STANDARD
TZOFFSETFROM:-0400
TZOFFSETTO:-0500
TZNAME:EST
DTSTART:20241103T060000
END:STANDARD
BEGIN:DAYLIGHT
TZOFFSETFROM:-0500
TZOFFSETTO:-0400
TZNAME:EDT
DTSTART:20250309T070000
END:DAYLIGHT
BEGIN:STANDARD
TZOFFSETFROM:-0400
TZOFFSETTO:-0500
TZNAME:EST
DTSTART:20251102T060000
END:STANDARD
BEGIN:DAYLIGHT
TZOFFSETFROM:-0500
TZOFFSETTO:-0400
TZNAME:EDT
DTSTART:20260308T070000
END:DAYLIGHT
BEGIN:STANDARD
TZOFFSETFROM:-0400
TZOFFSETTO:-0500
TZNAME:EST
DTSTART:20261101T060000
END:STANDARD
END:VTIMEZONE
BEGIN:VEVENT
DTSTART;TZID=America/Detroit:20250716T173000
DTEND;TZID=America/Detroit:20250716T183000
DTSTAMP:20260422T062051
CREATED:20250317T152509Z
LAST-MODIFIED:20250317T152509Z
UID:5085-1752687000-1752690600@disabilitynetworkwm.org
SUMMARY:Ignite Fire (Newaygo County): Water Party
DESCRIPTION:Topic: Water Party | Break Out the Super Soakers \nIgnite Fire Newaygo County will occur on the 2nd Wednesday of every month. \nYou can RSVP by scanning the QR code in the flyer\, or by contacting our Youth Transition Specialist\, Danielle Bennett at danielleb@disabilitynetworkwm.org or (231)-557-7849
URL:https://disabilitynetworkwm.org/event/ignite-fire-newaygo-county-water-party/
LOCATION:NCRESA Educational Service Center\, 4747 West 48th Street\, Fremont\, MI\, 49412\, United States
ATTACH;FMTTYPE=image/png:https://disabilitynetworkwm.org/wp-content/uploads/2024/06/Ignite-Newaygo.png
END:VEVENT
END:VCALENDAR