

BEGIN:VCALENDAR
VERSION:2.0
PRODID:-//Disability Network - ECPv6.15.20//NONSGML v1.0//EN
CALSCALE:GREGORIAN
METHOD:PUBLISH
X-WR-CALNAME:Disability Network
X-ORIGINAL-URL:https://disabilitynetworkwm.org
X-WR-CALDESC:Events for Disability Network
REFRESH-INTERVAL;VALUE=DURATION:PT1H
X-Robots-Tag:noindex
X-PUBLISHED-TTL:PT1H
BEGIN:VTIMEZONE
TZID:America/Detroit
BEGIN:DAYLIGHT
TZOFFSETFROM:-0500
TZOFFSETTO:-0400
TZNAME:EDT
DTSTART:20240310T070000
END:DAYLIGHT
BEGIN:STANDARD
TZOFFSETFROM:-0400
TZOFFSETTO:-0500
TZNAME:EST
DTSTART:20241103T060000
END:STANDARD
BEGIN:DAYLIGHT
TZOFFSETFROM:-0500
TZOFFSETTO:-0400
TZNAME:EDT
DTSTART:20250309T070000
END:DAYLIGHT
BEGIN:STANDARD
TZOFFSETFROM:-0400
TZOFFSETTO:-0500
TZNAME:EST
DTSTART:20251102T060000
END:STANDARD
BEGIN:DAYLIGHT
TZOFFSETFROM:-0500
TZOFFSETTO:-0400
TZNAME:EDT
DTSTART:20260308T070000
END:DAYLIGHT
BEGIN:STANDARD
TZOFFSETFROM:-0400
TZOFFSETTO:-0500
TZNAME:EST
DTSTART:20261101T060000
END:STANDARD
END:VTIMEZONE
BEGIN:VEVENT
DTSTART;TZID=America/Detroit:20250806T120000
DTEND;TZID=America/Detroit:20250806T130000
DTSTAMP:20260422T045652
CREATED:20250106T165155Z
LAST-MODIFIED:20250115T162558Z
UID:4805-1754481600-1754485200@disabilitynetworkwm.org
SUMMARY:Lunch & Learn Series: Service Animals
DESCRIPTION:Lunch & Learn Series: Service Animals \n\nService Animals are tools for people with disabilities to enjoy their lives fully and safely. They can help with mobility\, navigate the world\, notify people of danger\, and provide assistance during a medical event.\n\nParticipants Will Learn About the Following Topics: \n\nAmericans with Disabilities Act rights\, rules\, and regulations for service animals\nDo’s and Don’ts of Service Animals\nService Animals vs. Emotional Support Animals vs. Therapy Animals\nInclusion\nAbleism\n The rules for the ADA vs. the Fair Housing Act vs. the Air Carriers Access Act\n\nWho Will Benefit From This Training: \n\nEmployers\, government agencies\, schools\, health care\, non-profit\, and for-profit businesses. We can present to any audience.
URL:https://disabilitynetworkwm.org/event/lunch-learn-series-service-animals/
LOCATION:United Way of the Lakeshore: Yellow Room\, 31 E Clay Ave\, Muskegon\, MI\, 49442\, United States
ATTACH;FMTTYPE=image/jpeg:https://disabilitynetworkwm.org/wp-content/uploads/2024/12/LL-website-graphic.jpg
END:VEVENT
END:VCALENDAR