

BEGIN:VCALENDAR
VERSION:2.0
PRODID:-//Disability Network - ECPv6.15.20//NONSGML v1.0//EN
CALSCALE:GREGORIAN
METHOD:PUBLISH
X-WR-CALNAME:Disability Network
X-ORIGINAL-URL:https://disabilitynetworkwm.org
X-WR-CALDESC:Events for Disability Network
REFRESH-INTERVAL;VALUE=DURATION:PT1H
X-Robots-Tag:noindex
X-PUBLISHED-TTL:PT1H
BEGIN:VTIMEZONE
TZID:America/Detroit
BEGIN:DAYLIGHT
TZOFFSETFROM:-0500
TZOFFSETTO:-0400
TZNAME:EDT
DTSTART:20250309T070000
END:DAYLIGHT
BEGIN:STANDARD
TZOFFSETFROM:-0400
TZOFFSETTO:-0500
TZNAME:EST
DTSTART:20251102T060000
END:STANDARD
BEGIN:DAYLIGHT
TZOFFSETFROM:-0500
TZOFFSETTO:-0400
TZNAME:EDT
DTSTART:20260308T070000
END:DAYLIGHT
BEGIN:STANDARD
TZOFFSETFROM:-0400
TZOFFSETTO:-0500
TZNAME:EST
DTSTART:20261101T060000
END:STANDARD
BEGIN:DAYLIGHT
TZOFFSETFROM:-0500
TZOFFSETTO:-0400
TZNAME:EDT
DTSTART:20270314T070000
END:DAYLIGHT
BEGIN:STANDARD
TZOFFSETFROM:-0400
TZOFFSETTO:-0500
TZNAME:EST
DTSTART:20271107T060000
END:STANDARD
END:VTIMEZONE
BEGIN:VEVENT
DTSTART;TZID=America/Detroit:20260121T110000
DTEND;TZID=America/Detroit:20260121T123000
DTSTAMP:20260422T045158
CREATED:20260106T170231Z
LAST-MODIFIED:20260120T174713Z
UID:5615-1768993200-1768998600@disabilitynetworkwm.org
SUMMARY:Stronger Together: Women's Peer Support Group | Ashley Braje (YMCA) | Event Canceled
DESCRIPTION:Update: Due to extreme Winter weather conditions we have made the decision to cancel this month’s Women’s group to ensure safety. Please check our socials for further updates.\n\n\nPlease stay safe and warm!\n\n— \nSpeaker: Ashley Braje (YMCA) \nThis month’s Women’s Group will feature guest speaker\, Ashley Braje (YMCA) \nNew Year\, New You will center on nourishing your body\, moving in ways that feel good\, and practicing self-care that actually fits your life. Together\, we’ll explore what “healthy” looks like for you\, not what the world insists it should be. \n— \nAre you feeling isolated and bored? Would you like the opportunity to share your triumphs\, struggles\, and insights with others who can understand\, empathize with\, and benefit from your experiences? \nPlease join us for our virtual women’s support group meetings\, where you and other women with disabilities determine the topics for discussion. We are a friendly group that discusses such topics as employment\, travel\, hobbies\, advocacy\, and more\, all from our unique perspective as women with disabilities. \nWHAT’S IN IT FOR YOU?  \n\nA chance to meet new friends\nThe opportunity to learn new strategies for coping with life’s challenges\nA place to unwind by sharing your struggles with others who can relate to your experiences in a judgement-free environment\nA chance to put your problems into perspective by being supportive of others\nIncreased confidence in public speaking and group interactions\nA chance to learn about and share tips and resources\nLight snacks provided 12 – 12:30\n\n  \nFor more information or to RSVP\, please contact: \nLisa Sullivan\, Information & Referral Specialist  \nWork Cell Phone: (231) 286-4226  \nOffice Phone: (231) 332-4033  \nMain Office Phone: (231) 722-0088  \nEmail: lisas@disabilitynetworkwm.org \nAddress: 27 E. Clay Ave.\, Muskegon\, MI 49442
URL:https://disabilitynetworkwm.org/event/new-year/
LOCATION:Disability Network West Michigan: Brown Room\, 27 E Clay Avenue\, Muskegon\, MI\, 49442\, United States
CATEGORIES:Stronger Together
ATTACH;FMTTYPE=image/jpeg:https://disabilitynetworkwm.org/wp-content/uploads/2024/10/Stronger-Together-2.jpg
END:VEVENT
END:VCALENDAR