

BEGIN:VCALENDAR
VERSION:2.0
PRODID:-//Disability Network - ECPv6.15.20//NONSGML v1.0//EN
CALSCALE:GREGORIAN
METHOD:PUBLISH
X-WR-CALNAME:Disability Network
X-ORIGINAL-URL:https://disabilitynetworkwm.org
X-WR-CALDESC:Events for Disability Network
REFRESH-INTERVAL;VALUE=DURATION:PT1H
X-Robots-Tag:noindex
X-PUBLISHED-TTL:PT1H
BEGIN:VTIMEZONE
TZID:America/Detroit
BEGIN:DAYLIGHT
TZOFFSETFROM:-0500
TZOFFSETTO:-0400
TZNAME:EDT
DTSTART:20240310T070000
END:DAYLIGHT
BEGIN:STANDARD
TZOFFSETFROM:-0400
TZOFFSETTO:-0500
TZNAME:EST
DTSTART:20241103T060000
END:STANDARD
BEGIN:DAYLIGHT
TZOFFSETFROM:-0500
TZOFFSETTO:-0400
TZNAME:EDT
DTSTART:20250309T070000
END:DAYLIGHT
BEGIN:STANDARD
TZOFFSETFROM:-0400
TZOFFSETTO:-0500
TZNAME:EST
DTSTART:20251102T060000
END:STANDARD
BEGIN:DAYLIGHT
TZOFFSETFROM:-0500
TZOFFSETTO:-0400
TZNAME:EDT
DTSTART:20260308T070000
END:DAYLIGHT
BEGIN:STANDARD
TZOFFSETFROM:-0400
TZOFFSETTO:-0500
TZNAME:EST
DTSTART:20261101T060000
END:STANDARD
END:VTIMEZONE
BEGIN:VEVENT
DTSTART;TZID=America/Detroit:20251111T060000
DTEND;TZID=America/Detroit:20251111T233000
DTSTAMP:20260422T062649
CREATED:20251105T151419Z
LAST-MODIFIED:20251105T151443Z
UID:10000271-1762840800-1762903800@disabilitynetworkwm.org
SUMMARY:Veterans' Day Holiday Closure
DESCRIPTION:We will be closed in observance of the Veterans’ Day Holiday. \nThursday\, November 11\, 2025 \n| \nWe will resume our normal business hours on Wednesday\, November 12\, 2025
URL:https://disabilitynetworkwm.org/event/veterans-day/
LOCATION:Disability Network West Michigan\, 27 East Clay Avenue\, Muskegon\, MI\, 49442\, United States
ATTACH;FMTTYPE=image/jpeg:https://disabilitynetworkwm.org/wp-content/uploads/2024/08/event-website.jpg
END:VEVENT
BEGIN:VEVENT
DTSTART;TZID=America/Detroit:20251113T160000
DTEND;TZID=America/Detroit:20251113T200000
DTSTAMP:20260422T062649
CREATED:20251016T175136Z
LAST-MODIFIED:20251016T175136Z
UID:10000267-1763049600-1763064000@disabilitynetworkwm.org
SUMMARY:Veteran's Appreciation Dinner (RSVP Required | Number Enclosed)
DESCRIPTION:Disability Network West Michigan’s Veterans Appreciation Dinner\nDate: Thursday\, November 13\, 2025 \nTime: 4:00 – 8:00 PM \nLocation: USS Silversides \nSubmarine Museum \n1346 Bluff St \nMuskegon\, MI 49441 \n  \nRSVP by: Tuesday\, November 4\, 2025 \nTo RSVP\, Call: (231) 332-4038
URL:https://disabilitynetworkwm.org/event/veterans-appreciation-dinner-rsvp-required-number-enclosed/
LOCATION:USS Silversides (Submarine Museum)\, 1346 Bluff St\, Muskegon\, MI\, 49441\, United States
END:VEVENT
BEGIN:VEVENT
DTSTART;TZID=America/Detroit:20251119T110000
DTEND;TZID=America/Detroit:20251119T123000
DTSTAMP:20260422T062649
CREATED:20251028T142234Z
LAST-MODIFIED:20251028T143218Z
UID:10000269-1763550000-1763555400@disabilitynetworkwm.org
SUMMARY:Stronger Together: Women's Peer Support Group | Managing the Holiday Blues
DESCRIPTION:Topic: Managing the Holiday Blues \nIf the holiday season tends to leave you feeling anxious\, lonely\, or just stretched too thin\, you’re not alone. Connect with other women who understand\, gain new coping tools\, and leave feeling calmer and more in control this holiday season. \nTogether we’ll share simple\, practical ways to reduce stress\, set healthy boundaries\, and care for ourselves emotionally. \n— \nAre you feeling isolated and bored? Would you like the opportunity to share your triumphs\, struggles\, and insights with others who can understand\, empathize with\, and benefit from your experiences? \nPlease join us for our virtual women’s support group meetings\, where you and other women with disabilities determine the topics for discussion. We are a friendly group that discusses such topics as employment\, travel\, hobbies\, advocacy\, and more\, all from our unique perspective as women with disabilities. \nWHAT’S IN IT FOR YOU?  \n\nA chance to meet new friends\nThe opportunity to learn new strategies for coping with life’s challenges\nA place to unwind by sharing your struggles with others who can relate to your experiences in a judgement-free environment\nA chance to put your problems into perspective by being supportive of others\nIncreased confidence in public speaking and group interactions\nA chance to learn about and share tips and resources\nLunch Provided from 12 – 12:30\n\n  \nFor more information or to RSVP\, please contact: \nLisa Sullivan\, Information & Referral Specialist  \nWork Cell Phone: (231) 286-4226  \nOffice Phone: (231) 332-4033  \nMain Office Phone: (231) 722-0088  \nEmail: lisas@disabilitynetworkwm.org \nAddress: 27 E. Clay Ave.\, Muskegon MI 49442
URL:https://disabilitynetworkwm.org/event/stronger-together-womens-peer-support-group-managing-the-holiday-blues/
LOCATION:Disability Network West Michigan: Brown Room\, 27 E Clay Avenue\, Muskegon\, MI\, 49442\, United States
CATEGORIES:Stronger Together
ATTACH;FMTTYPE=image/jpeg:https://disabilitynetworkwm.org/wp-content/uploads/2024/10/Stronger-Together-2.jpg
END:VEVENT
BEGIN:VEVENT
DTSTART;TZID=America/Detroit:20251120T173000
DTEND;TZID=America/Detroit:20251120T183000
DTSTAMP:20260422T062649
CREATED:20251027T174958Z
LAST-MODIFIED:20251027T174958Z
UID:10000268-1763659800-1763663400@disabilitynetworkwm.org
SUMMARY:Ignite Fire: Muskegon County | Topic: Cookie Decorating/Holiday Party
DESCRIPTION:Disability Network West Michigan is excited to invite you to Ignite Fire’s Youth Peer Support Cookie Decorating Event! \nIgnite Fire is a great opportunity for youth and young adults (aged 16-26) with disabilities to connect. It’s a chance to share and discuss issues\, concerns\, hopes\, dreams\, and goals with peers. \nWhat attendees can expect: \n\nIntroductions/ Welcome\nTalking over the ground rules for the meeting\nIcebreakers\nHow are we feeling/ Check-in\nCasual conversation/hangout\nThe Highlight: Holiday Cookie Decorating\nNavigating the holidays conversation\nDiscussion of our next event\n\n\nParents and caregivers are also welcome!\n\nYou can also RSVP using the ticket button on this event or by calling 231-722-0088
URL:https://disabilitynetworkwm.org/event/ignite-fire-muskegon-county-topic-cookie-decorating-holiday-party/
LOCATION:United Way of the Lakeshore: Yellow Room\, 31 E Clay Ave\, Muskegon\, MI\, 49442\, United States
CATEGORIES:Ignite Fire (Muskegon)
ATTACH;FMTTYPE=image/jpeg:https://disabilitynetworkwm.org/wp-content/uploads/2024/08/Ignite-Muskegon.jpg
END:VEVENT
BEGIN:VEVENT
DTSTART;VALUE=DATE:20251127
DTEND;VALUE=DATE:20251201
DTSTAMP:20260422T062649
CREATED:20251105T151021Z
LAST-MODIFIED:20251126T160811Z
UID:10000270-1764201600-1764547199@disabilitynetworkwm.org
SUMMARY:Thanksgiving Holiday Closure
DESCRIPTION:From our family at Disability Network West Michigan to you and yours\, we wish you a very safe and happy Thanksgiving Holiday! \n| \nOur Offices will be closed \nThursday\, November 27 & Friday\, November 28\, 2025 \n| \nWe will resume our normal business hours on Monday\, December 1\, 2025
URL:https://disabilitynetworkwm.org/event/thanksgiving-holiday-closure/
LOCATION:Disability Network West Michigan\, 27 East Clay Avenue\, Muskegon\, MI\, 49442\, United States
ATTACH;FMTTYPE=image/jpeg:https://disabilitynetworkwm.org/wp-content/uploads/2024/08/event-website.jpg
END:VEVENT
END:VCALENDAR