

BEGIN:VCALENDAR
VERSION:2.0
PRODID:-//Disability Network - ECPv6.15.20//NONSGML v1.0//EN
CALSCALE:GREGORIAN
METHOD:PUBLISH
X-ORIGINAL-URL:https://disabilitynetworkwm.org
X-WR-CALDESC:Events for Disability Network
REFRESH-INTERVAL;VALUE=DURATION:PT1H
X-Robots-Tag:noindex
X-PUBLISHED-TTL:PT1H
BEGIN:VTIMEZONE
TZID:America/Detroit
BEGIN:DAYLIGHT
TZOFFSETFROM:-0500
TZOFFSETTO:-0400
TZNAME:EDT
DTSTART:20240310T070000
END:DAYLIGHT
BEGIN:STANDARD
TZOFFSETFROM:-0400
TZOFFSETTO:-0500
TZNAME:EST
DTSTART:20241103T060000
END:STANDARD
BEGIN:DAYLIGHT
TZOFFSETFROM:-0500
TZOFFSETTO:-0400
TZNAME:EDT
DTSTART:20250309T070000
END:DAYLIGHT
BEGIN:STANDARD
TZOFFSETFROM:-0400
TZOFFSETTO:-0500
TZNAME:EST
DTSTART:20251102T060000
END:STANDARD
BEGIN:DAYLIGHT
TZOFFSETFROM:-0500
TZOFFSETTO:-0400
TZNAME:EDT
DTSTART:20260308T070000
END:DAYLIGHT
BEGIN:STANDARD
TZOFFSETFROM:-0400
TZOFFSETTO:-0500
TZNAME:EST
DTSTART:20261101T060000
END:STANDARD
BEGIN:DAYLIGHT
TZOFFSETFROM:-0500
TZOFFSETTO:-0400
TZNAME:EDT
DTSTART:20270314T070000
END:DAYLIGHT
BEGIN:STANDARD
TZOFFSETFROM:-0400
TZOFFSETTO:-0500
TZNAME:EST
DTSTART:20271107T060000
END:STANDARD
END:VTIMEZONE
BEGIN:VEVENT
DTSTART;VALUE=DATE:20251202
DTEND;VALUE=DATE:20251204
DTSTAMP:20260422T051554
CREATED:20251126T161151Z
LAST-MODIFIED:20251126T161151Z
UID:10000274-1764633600-1764806399@disabilitynetworkwm.org
SUMMARY:Giving Tuesday
DESCRIPTION:Please consider donating to our “Giving Tuesday” campaign if you are able and feel called to do so. Every donation helps. Thank you so much for your consideration! \nhttps://disabilitynetworkwm.org/give/
URL:https://disabilitynetworkwm.org/event/giving-tuesday/
LOCATION:MI
END:VEVENT
BEGIN:VEVENT
DTSTART;TZID=America/Detroit:20251203T120000
DTEND;TZID=America/Detroit:20251203T130000
DTSTAMP:20260422T051554
CREATED:20250115T155654Z
LAST-MODIFIED:20250930T144009Z
UID:10000209-1764763200-1764766800@disabilitynetworkwm.org
SUMMARY:Lunch & Learn Series: Invisible Disabilities
DESCRIPTION:Lunch & Learn Series: Invisible Disabilities \nWhy is this topic important? \nInvisible disabilities are conditions that are not readily apparent\, such as chronic pain\, mental health conditions\, or neurological disorders. These conditions can significantly impact a person’s daily life\, yet their invisible nature often leads to misunderstandings\, lack of support\, and even discrimination. By increasing awareness and understanding\, we can create a more inclusive and supportive environment for everyone. \nIn this training\, participants will learn about: \n\nWho is Disability Network West Michigan?\nDefinition of a disability\nGeneral facts about disability\nWhat is an invisible disability?\nStatistics highlighting invisible disabilities\nHow to interact with people with disabilities\n\nWho will benefit from this training? \n\nEmployers\, government agencies\, schools\, health care\, non-profit\, and for-profit businesses. We can present to any audience.\n\n 
URL:https://disabilitynetworkwm.org/event/lunch-learn-series-invisible-disabilities/
LOCATION:United Way of the Lakeshore: Yellow Room\, 31 E Clay Ave\, Muskegon\, MI\, 49442\, United States
ATTACH;FMTTYPE=image/jpeg:https://disabilitynetworkwm.org/wp-content/uploads/2024/12/LL-website-graphic.jpg
END:VEVENT
BEGIN:VEVENT
DTSTART;TZID=America/Detroit:20251210T173000
DTEND;TZID=America/Detroit:20251210T183000
DTSTAMP:20260422T051554
CREATED:20251203T153344Z
LAST-MODIFIED:20251203T153441Z
UID:10000275-1765387800-1765391400@disabilitynetworkwm.org
SUMMARY:Ignite Fire (Newaygo County):  Karaoke & Cocoa
DESCRIPTION:What is Ignite Fire? Ignite Fire is a great opportunity for youth and young adults to connect. It’s a chance to share space\, discussion and promote disability awareness with other peers. \nTopic: Karaoke & Cocoa \nWhat attendees can expect:\n\n– Meet & Greet– Sign in and birthday list– Hot Cocoa Bar– Sing Karaoke or participate in crafting– Have a good time\n\nYou can RSVP by scanning the QR code in the flyer\, or by contacting our Youth Transition Specialist\, Danielle Bennett\, by text at 231.557.7849
URL:https://disabilitynetworkwm.org/event/karaoke-cocoa/
LOCATION:NCRESA Educational Service Center\, 4747 West 48th Street\, Fremont\, MI\, 49412\, United States
ATTACH;FMTTYPE=image/png:https://disabilitynetworkwm.org/wp-content/uploads/2024/06/Ignite-Newaygo.png
END:VEVENT
BEGIN:VEVENT
DTSTART;TZID=America/Detroit:20251217T110000
DTEND;TZID=America/Detroit:20251217T123000
DTSTAMP:20260422T051554
CREATED:20251124T150908Z
LAST-MODIFIED:20251124T151406Z
UID:10000272-1765969200-1765974600@disabilitynetworkwm.org
SUMMARY:Stronger Together: Women's Peer Support Group |  Overview of Mediation & Restorative Services
DESCRIPTION:Topic:  Overview of Mediation & Restorative Services\nSpeaker: Sarah De La Rosa \nSarah’s presentation will highlight our mediation\, restorative justice\, and reentry services\, along with practical conflict resolution tips to help individuals communicate more effectively\, manage tension\, and build stronger\, more peaceful relationships. \nSarah De La Rosa serves as the Program Director for Mediation & Restorative Services\, which has served Muskegon\, Oceana\, Mason\, and Manistee counties for more than 30 years. \nWHAT’S IN IT FOR YOU?  \n\nA chance to meet new friends\nThe opportunity to learn new strategies for coping with life’s challenges\nA place to unwind by sharing your struggles with others who can relate to your experiences in a judgement-free environment\nA chance to put your problems into perspective by being supportive of others\nIncreased confidence in public speaking and group interactions\nA chance to learn about and share tips and resources\nSnacks Provided from 12 – 12:30\n\n  \nFor more information or to RSVP\, please contact: \nLisa Sullivan\, Information & Referral Specialist  \nWork Cell Phone: (231) 286-4226  \nOffice Phone: (231) 332-4033  \nMain Office Phone: (231) 722-0088  \nEmail: lisas@disabilitynetworkwm.org \nAddress: 27 E. Clay Ave.\, Muskegon MI 49442
URL:https://disabilitynetworkwm.org/event/overview-of-mediation-restorative-services/
LOCATION:Disability Network West Michigan: Brown Room\, 27 E Clay Avenue\, Muskegon\, MI\, 49442\, United States
CATEGORIES:Stronger Together
ATTACH;FMTTYPE=image/jpeg:https://disabilitynetworkwm.org/wp-content/uploads/2024/10/Stronger-Together-2.jpg
END:VEVENT
BEGIN:VEVENT
DTSTART;VALUE=DATE:20251222
DTEND;VALUE=DATE:20260105
DTSTAMP:20260422T051554
CREATED:20251124T153738Z
LAST-MODIFIED:20251126T160714Z
UID:10000273-1766361600-1767571199@disabilitynetworkwm.org
SUMMARY:Christmas & New Year's Holiday Closure
DESCRIPTION:From our family at Disability Network West Michigan to you and yours\, we wish you a very safe and joyous Holiday season! \n| \nOur Offices will be closed \nMonday\, December 22 – Friday\, January 2\, 2026 \n| \nWe will resume our normal business hours on Monday\, January 5\, 2026
URL:https://disabilitynetworkwm.org/event/holidayseason/
LOCATION:Disability Network West Michigan\, 27 East Clay Avenue\, Muskegon\, MI\, 49442\, United States
ATTACH;FMTTYPE=image/jpeg:https://disabilitynetworkwm.org/wp-content/uploads/2024/08/event-website.jpg
END:VEVENT
END:VCALENDAR