

BEGIN:VCALENDAR
VERSION:2.0
PRODID:-//Disability Network - ECPv6.15.20//NONSGML v1.0//EN
CALSCALE:GREGORIAN
METHOD:PUBLISH
X-ORIGINAL-URL:https://disabilitynetworkwm.org
X-WR-CALDESC:Events for Disability Network
REFRESH-INTERVAL;VALUE=DURATION:PT1H
X-Robots-Tag:noindex
X-PUBLISHED-TTL:PT1H
BEGIN:VTIMEZONE
TZID:America/Detroit
BEGIN:DAYLIGHT
TZOFFSETFROM:-0500
TZOFFSETTO:-0400
TZNAME:EDT
DTSTART:20240310T070000
END:DAYLIGHT
BEGIN:STANDARD
TZOFFSETFROM:-0400
TZOFFSETTO:-0500
TZNAME:EST
DTSTART:20241103T060000
END:STANDARD
BEGIN:DAYLIGHT
TZOFFSETFROM:-0500
TZOFFSETTO:-0400
TZNAME:EDT
DTSTART:20250309T070000
END:DAYLIGHT
BEGIN:STANDARD
TZOFFSETFROM:-0400
TZOFFSETTO:-0500
TZNAME:EST
DTSTART:20251102T060000
END:STANDARD
BEGIN:DAYLIGHT
TZOFFSETFROM:-0500
TZOFFSETTO:-0400
TZNAME:EDT
DTSTART:20260308T070000
END:DAYLIGHT
BEGIN:STANDARD
TZOFFSETFROM:-0400
TZOFFSETTO:-0500
TZNAME:EST
DTSTART:20261101T060000
END:STANDARD
BEGIN:DAYLIGHT
TZOFFSETFROM:-0500
TZOFFSETTO:-0400
TZNAME:EDT
DTSTART:20270314T070000
END:DAYLIGHT
BEGIN:STANDARD
TZOFFSETFROM:-0400
TZOFFSETTO:-0500
TZNAME:EST
DTSTART:20271107T060000
END:STANDARD
END:VTIMEZONE
BEGIN:VEVENT
DTSTART;VALUE=DATE:20251222
DTEND;VALUE=DATE:20260105
DTSTAMP:20260420T050925
CREATED:20251124T153738Z
LAST-MODIFIED:20251126T160714Z
UID:10000273-1766361600-1767571199@disabilitynetworkwm.org
SUMMARY:Christmas & New Year's Holiday Closure
DESCRIPTION:From our family at Disability Network West Michigan to you and yours\, we wish you a very safe and joyous Holiday season! \n| \nOur Offices will be closed \nMonday\, December 22 – Friday\, January 2\, 2026 \n| \nWe will resume our normal business hours on Monday\, January 5\, 2026
URL:https://disabilitynetworkwm.org/event/holidayseason/
LOCATION:Disability Network West Michigan\, 27 East Clay Avenue\, Muskegon\, MI\, 49442\, United States
ATTACH;FMTTYPE=image/jpeg:https://disabilitynetworkwm.org/wp-content/uploads/2024/08/event-website.jpg
END:VEVENT
BEGIN:VEVENT
DTSTART;TZID=America/Detroit:20260114T120000
DTEND;TZID=America/Detroit:20260114T130000
DTSTAMP:20260420T050925
CREATED:20251209T142558Z
LAST-MODIFIED:20251209T145813Z
UID:10000276-1768392000-1768395600@disabilitynetworkwm.org
SUMMARY:The Path to Self-Sufficiency
DESCRIPTION:Topic: The Path to Self-Sufficiency \nLearn how Social Security’s work incentives let you work and keep more of your disability payments while trying to work your way off benefits. \nWho will benefit from this training? Case managers\, payees\, people receiving benefits\, and anyone helping someone with disabilities who wants to work. \nLunch will be provided to in-person attendees | Please RSVP\, so we know how many lunches to buy \n 
URL:https://disabilitynetworkwm.org/event/the-path-to-self-sufficiency/
LOCATION:United Way of the Lakeshore: Red Room\, 31 E Clay Ave\, Muskegon\, MI\, 49442\, United States
ATTACH;FMTTYPE=image/jpeg:https://disabilitynetworkwm.org/wp-content/uploads/2024/12/LL-website-graphic.jpg
END:VEVENT
BEGIN:VEVENT
DTSTART;TZID=America/Detroit:20260114T173000
DTEND;TZID=America/Detroit:20260114T183000
DTSTAMP:20260420T050925
CREATED:20260107T172525Z
LAST-MODIFIED:20260107T173219Z
UID:10000279-1768411800-1768415400@disabilitynetworkwm.org
SUMMARY:Ignite Fire (Newaygo County): New Year\, New Me
DESCRIPTION:Topic: New Year\, New Me | Reflections & Affirmations \nYou can RSVP by scanning the QR code in the flyer\, or by contacting our Youth Transition Specialist\, Danielle Bennett\, at danielleb@disabilitynetworkwm.org or (231)-557-7849
URL:https://disabilitynetworkwm.org/event/ignite-fire-newaygo-county-new-year-new-me/
LOCATION:NCRESA Educational Service Center\, 4747 West 48th Street\, Fremont\, MI\, 49412\, United States
ATTACH;FMTTYPE=image/png:https://disabilitynetworkwm.org/wp-content/uploads/2024/06/Ignite-Newaygo.png
END:VEVENT
BEGIN:VEVENT
DTSTART;VALUE=DATE:20260119
DTEND;VALUE=DATE:20260120
DTSTAMP:20260420T050925
CREATED:20260115T163841Z
LAST-MODIFIED:20260115T163841Z
UID:10000281-1768780800-1768867199@disabilitynetworkwm.org
SUMMARY:Martin Luther King Jr. Day (All DNWM offices closed)
DESCRIPTION:Martin Luther King Jr. Day 2026\n\n\n\nAll Disability Network West Michigan offices will be closed Monday\, January 19\, 2026 in observance of Martin Luther King Jr. Day.\n\n\n\nWe will reopen and resume our normal business hours on Tuesday January 20\, 2026.\n\n\n\nWe hope you a have safe and warm Monday and we look forward to see you soon.\n\n\n\n“Love is the greatest force in the universe. It is the heartbeat of the moral cosmos.” – Martin Luther King Jr.
URL:https://disabilitynetworkwm.org/event/martin-luther-king-jr-day-all-dnwm-offices-closed/
LOCATION:MI
END:VEVENT
BEGIN:VEVENT
DTSTART;TZID=America/Detroit:20260121T110000
DTEND;TZID=America/Detroit:20260121T123000
DTSTAMP:20260420T050925
CREATED:20260106T170231Z
LAST-MODIFIED:20260120T174713Z
UID:10000278-1768993200-1768998600@disabilitynetworkwm.org
SUMMARY:Stronger Together: Women's Peer Support Group | Ashley Braje (YMCA) | Event Canceled
DESCRIPTION:Update: Due to extreme Winter weather conditions we have made the decision to cancel this month’s Women’s group to ensure safety. Please check our socials for further updates.\n\n\nPlease stay safe and warm!\n\n— \nSpeaker: Ashley Braje (YMCA) \nThis month’s Women’s Group will feature guest speaker\, Ashley Braje (YMCA) \nNew Year\, New You will center on nourishing your body\, moving in ways that feel good\, and practicing self-care that actually fits your life. Together\, we’ll explore what “healthy” looks like for you\, not what the world insists it should be. \n— \nAre you feeling isolated and bored? Would you like the opportunity to share your triumphs\, struggles\, and insights with others who can understand\, empathize with\, and benefit from your experiences? \nPlease join us for our virtual women’s support group meetings\, where you and other women with disabilities determine the topics for discussion. We are a friendly group that discusses such topics as employment\, travel\, hobbies\, advocacy\, and more\, all from our unique perspective as women with disabilities. \nWHAT’S IN IT FOR YOU?  \n\nA chance to meet new friends\nThe opportunity to learn new strategies for coping with life’s challenges\nA place to unwind by sharing your struggles with others who can relate to your experiences in a judgement-free environment\nA chance to put your problems into perspective by being supportive of others\nIncreased confidence in public speaking and group interactions\nA chance to learn about and share tips and resources\nLight snacks provided 12 – 12:30\n\n  \nFor more information or to RSVP\, please contact: \nLisa Sullivan\, Information & Referral Specialist  \nWork Cell Phone: (231) 286-4226  \nOffice Phone: (231) 332-4033  \nMain Office Phone: (231) 722-0088  \nEmail: lisas@disabilitynetworkwm.org \nAddress: 27 E. Clay Ave.\, Muskegon\, MI 49442
URL:https://disabilitynetworkwm.org/event/new-year/
LOCATION:Disability Network West Michigan: Brown Room\, 27 E Clay Avenue\, Muskegon\, MI\, 49442\, United States
CATEGORIES:Stronger Together
ATTACH;FMTTYPE=image/jpeg:https://disabilitynetworkwm.org/wp-content/uploads/2024/10/Stronger-Together-2.jpg
END:VEVENT
BEGIN:VEVENT
DTSTART;TZID=America/Detroit:20260122T173000
DTEND;TZID=America/Detroit:20260122T183000
DTSTAMP:20260420T050925
CREATED:20251209T152753Z
LAST-MODIFIED:20260120T155853Z
UID:10000277-1769103000-1769106600@disabilitynetworkwm.org
SUMMARY:Ignite Fire: Muskegon County | Topic: Visualize The New Year! (Postponed to February)
DESCRIPTION:Update: Due to the uncertainty of the weather this week\, we’ve made the decision to be extra cautious and postpone our SMART goal setting event to February. We will provide a firm rescheduled date later this week.\n\n\n\nPlease stay safe and warm.\n\nThe Highlight: Vision Board Creation | Goal Setting \nDisability Network West Michigan is excited to invite you to Ignite Fire’s Youth/Peer Support New Year’s celebration\, featuring vision board creation and goal-setting. \nIgnite Fire is a great opportunity for youth and young adults (aged 16-26) with disabilities to connect. It’s a chance to share and discuss issues\, concerns\, hopes\, dreams\, and goals with peers. \nWhat attendees can expect: \n\nWhat attendees can expect:\nIntroductions/ Welcome\nIcebreakers\nHow are we feeling/ Check-in\n Casual conversation/hangout\n The Highlight: Vision Board Creation | Goal Setting\nDiscussion of our next event\nCleanup
URL:https://disabilitynetworkwm.org/event/postponed/
LOCATION:United Way of the Lakeshore: Yellow Room\, 31 E Clay Ave\, Muskegon\, MI\, 49442\, United States
CATEGORIES:Ignite Fire (Muskegon)
ATTACH;FMTTYPE=image/jpeg:https://disabilitynetworkwm.org/wp-content/uploads/2024/08/Ignite-Muskegon.jpg
END:VEVENT
END:VCALENDAR