

BEGIN:VCALENDAR
VERSION:2.0
PRODID:-//Disability Network - ECPv6.15.20//NONSGML v1.0//EN
CALSCALE:GREGORIAN
METHOD:PUBLISH
X-WR-CALNAME:Disability Network
X-ORIGINAL-URL:https://disabilitynetworkwm.org
X-WR-CALDESC:Events for Disability Network
REFRESH-INTERVAL;VALUE=DURATION:PT1H
X-Robots-Tag:noindex
X-PUBLISHED-TTL:PT1H
BEGIN:VTIMEZONE
TZID:America/Detroit
BEGIN:DAYLIGHT
TZOFFSETFROM:-0500
TZOFFSETTO:-0400
TZNAME:EDT
DTSTART:20250309T070000
END:DAYLIGHT
BEGIN:STANDARD
TZOFFSETFROM:-0400
TZOFFSETTO:-0500
TZNAME:EST
DTSTART:20251102T060000
END:STANDARD
BEGIN:DAYLIGHT
TZOFFSETFROM:-0500
TZOFFSETTO:-0400
TZNAME:EDT
DTSTART:20260308T070000
END:DAYLIGHT
BEGIN:STANDARD
TZOFFSETFROM:-0400
TZOFFSETTO:-0500
TZNAME:EST
DTSTART:20261101T060000
END:STANDARD
BEGIN:DAYLIGHT
TZOFFSETFROM:-0500
TZOFFSETTO:-0400
TZNAME:EDT
DTSTART:20270314T070000
END:DAYLIGHT
BEGIN:STANDARD
TZOFFSETFROM:-0400
TZOFFSETTO:-0500
TZNAME:EST
DTSTART:20271107T060000
END:STANDARD
END:VTIMEZONE
BEGIN:VEVENT
DTSTART;TZID=America/Detroit:20260721T110000
DTEND;TZID=America/Detroit:20260721T140000
DTSTAMP:20260422T045658
CREATED:20260310T151232Z
LAST-MODIFIED:20260421T160828Z
UID:10000288-1784631600-1784642400@disabilitynetworkwm.org
SUMMARY:ADA Celebration
DESCRIPTION:ADA Celebration – 36th Anniversary \nJoin us as we celebrate the 36th Anniversary of the Americans with Disabilities Act (ADA) in partnership with ACLU of Michigan\, Arc of the Lakeshore\, and Moka. \nThe Americans with Disabilities Act (ADA) is a landmark civil rights law that protects the rights of people with disabilities\, ensuring equal access and opportunity in areas like employment\, public spaces\, transportation\, and community life. This event is a chance to reflect on the progress made\, recognize the work still ahead\, and come together as a community. \nA voter registration table will also be available during the event. \nDate: July 24Time: 11:00 AM – 2:00 PMLocation: United Way of the Lakeshore31 E. Clay Ave.Muskegon\, MI 49442 \nThe ADA Celebration is funded by ADA Michigan. \nTo RSVP\, contact:Valerie | (231) 332-4048
URL:https://disabilitynetworkwm.org/event/ada-celebration-save-the-date-july-24/
LOCATION:United Way of the Lakeshore: Yellow Room\, 31 E Clay Ave\, Muskegon\, MI\, 49442\, United States
END:VEVENT
END:VCALENDAR