

BEGIN:VCALENDAR
VERSION:2.0
PRODID:-//Disability Network - ECPv6.15.20//NONSGML v1.0//EN
CALSCALE:GREGORIAN
METHOD:PUBLISH
X-WR-CALNAME:Disability Network
X-ORIGINAL-URL:https://disabilitynetworkwm.org
X-WR-CALDESC:Events for Disability Network
REFRESH-INTERVAL;VALUE=DURATION:PT1H
X-Robots-Tag:noindex
X-PUBLISHED-TTL:PT1H
BEGIN:VTIMEZONE
TZID:America/Detroit
BEGIN:DAYLIGHT
TZOFFSETFROM:-0500
TZOFFSETTO:-0400
TZNAME:EDT
DTSTART:20230312T070000
END:DAYLIGHT
BEGIN:STANDARD
TZOFFSETFROM:-0400
TZOFFSETTO:-0500
TZNAME:EST
DTSTART:20231105T060000
END:STANDARD
BEGIN:DAYLIGHT
TZOFFSETFROM:-0500
TZOFFSETTO:-0400
TZNAME:EDT
DTSTART:20240310T070000
END:DAYLIGHT
BEGIN:STANDARD
TZOFFSETFROM:-0400
TZOFFSETTO:-0500
TZNAME:EST
DTSTART:20241103T060000
END:STANDARD
BEGIN:DAYLIGHT
TZOFFSETFROM:-0500
TZOFFSETTO:-0400
TZNAME:EDT
DTSTART:20250309T070000
END:DAYLIGHT
BEGIN:STANDARD
TZOFFSETFROM:-0400
TZOFFSETTO:-0500
TZNAME:EST
DTSTART:20251102T060000
END:STANDARD
END:VTIMEZONE
BEGIN:VEVENT
DTSTART;TZID=America/Detroit:20240508T133000
DTEND;TZID=America/Detroit:20240508T143000
DTSTAMP:20260422T062116
CREATED:20240501T221909Z
LAST-MODIFIED:20240501T222518Z
UID:10000005-1715175000-1715178600@disabilitynetworkwm.org
SUMMARY:Growing Green (Newaygo County)
DESCRIPTION:A fun gathering for youth with disabilities\, ages 16-26! \nDisability Network West Michigan is pleased to invite you to our introduction to the Ignite Fire peer group event! Ignite Fire is a great opportunity for youth and young adults (aged 16-26) with disabilities to connect; It’s a chance to share and discuss issues\, concerns\, hopes\, dreams\, and goals with other peers. \nTopic: Growing Green! \nWhat attendees can expect: \nMeet & Greet\nIce Breaker Games\nGardening Basics\nPlanting your choice of seeds\nYou can RSVP using the ticket button on this event or by calling 231-722-0088. \nChild care will be provided; please mention if there will be younger children present
URL:https://disabilitynetworkwm.org/event/growing-green-newaygo-county/
LOCATION:NCRESA Educational Service Center\, 4747 West 48th Street\, Fremont\, MI\, 49412\, United States
ATTACH;FMTTYPE=image/jpeg:https://disabilitynetworkwm.org/wp-content/uploads/2024/05/https___cdn.evbuc_.com_images_744935769_590687579563_1_original.jpeg
END:VEVENT
BEGIN:VEVENT
DTSTART;TZID=America/Detroit:20240313T133000
DTEND;TZID=America/Detroit:20240313T143000
DTSTAMP:20260422T062116
CREATED:20240312T204749Z
LAST-MODIFIED:20240314T043147Z
UID:10000001-1710336600-1710340200@disabilitynetworkwm.org
SUMMARY:Introduction To Ignite Fire
DESCRIPTION:Disability Network West Michigan is pleased to invite you to our introduction to the Ignite Fire peer group event! \nIgnite Fire is a great opportunity for youth and young adults (aged 16-26) with disabilities to connect. It’s a chance to share and discuss issues\, concerns\, hopes\, dreams\, and goals with other peers. \nWhat attendees can expect: \n\nA Short Overview Presentation about Ignite (Approximately 30 minutes)\nQ & A with the Facilitators\nCasual Conversation & Hangout\nQuick Survey\nThe Highlight: Pizza\n\nYou can RSVP using the ticket button on this event or by calling (231) 722-0088.
URL:https://disabilitynetworkwm.org/event/introduction-to-ignite-fire/
LOCATION:NCRESA Educational Service Center\, 4747 West 48th Street\, Fremont\, MI\, 49412\, United States
ATTACH;FMTTYPE=image/jpeg:https://disabilitynetworkwm.org/wp-content/uploads/2024/03/https___cdn.evbuc_.com_images_701216009_590687579563_1_original.jpeg
END:VEVENT
END:VCALENDAR